BEGIN:VCALENDAR
PRODID:-//Microsoft Corporation//Outlook 12.0 MIMEDIR//EN
VERSION:2.0
CALSCALE:GREGORIAN
BEGIN:VEVENT
UID: e1855d37-be78-43a5-b722-15845079d5f5
SUMMARY:E-õõpepäev
DTSTAMP:20260429
DTSTART:20260429
DTEND:20260430
DURATION:P1D
LOCATION:
DESCRIPTION: <p>Õpilased tegelevad kodus tunniplaanis olevate õppeainetes antud jõukohaste ülesannetega.</p><p><strong>Link: </strong>https://www.hagudi.ee/et/sundmuste-kalender/e-oopepaev</p><p><strong>Hind: </strong></p>
STATUS:CONFIRMED
SEQUENCE:3
X-ALT-DESC;FMTTYPE=text/html:<p>Õpilased tegelevad kodus tunniplaanis olevate õppeainetes antud jõukohaste ülesannetega.</p><p><strong>Link: </strong>https://www.hagudi.ee/et/sundmuste-kalender/e-oopepaev</p><p><strong>Hind: </strong></p>
X-MICROSOFT-CDO-BUSYSTATUS:OOF
X-MICROSOFT-CDO-IMPORTANCE:1
X-MICROSOFT-DISALLOW-COUNTER:FALSE
X-MS-OLK-ALLOWEXTERNCHECK:TRUE
X-MS-OLK-CONFTYPE:0
X-MICROSOFT-CDO-ALLDAYEVENT:1
X-MICROSOFT-MSNCALENDAR-ALLDAYEVENT:1
END:VEVENT
END:VCALENDAR