BEGIN:VCALENDAR
PRODID:-//Microsoft Corporation//Outlook 12.0 MIMEDIR//EN
VERSION:2.0
CALSCALE:GREGORIAN
BEGIN:VEVENT
UID: f769c8d1-abae-4d34-be10-35c1574c6523
SUMMARY: I kooliastme mälumäng Rapla Vesiroosi Koolis
DTSTAMP:20260421T130000
DTSTART:20260421T130000
DTEND:20260421T140000
LOCATION:
DESCRIPTION: <p><strong>Link: </strong>https://www.hagudi.ee/et/sundmuste-kalender/i-kooliastme-malumang-rapla-vesiroosi-koolis</p><p><strong>Hind: </strong></p>
STATUS:CONFIRMED
SEQUENCE:3
X-ALT-DESC;FMTTYPE=text/html:<p><strong>Link: </strong>https://www.hagudi.ee/et/sundmuste-kalender/i-kooliastme-malumang-rapla-vesiroosi-koolis</p><p><strong>Hind: </strong></p>
X-MICROSOFT-CDO-BUSYSTATUS:OOF
X-MICROSOFT-CDO-IMPORTANCE:1
X-MICROSOFT-DISALLOW-COUNTER:FALSE
X-MS-OLK-ALLOWEXTERNCHECK:TRUE
X-MS-OLK-CONFTYPE:0
X-MICROSOFT-CDO-ALLDAYEVENT:
X-MICROSOFT-MSNCALENDAR-ALLDAYEVENT:
END:VEVENT
END:VCALENDAR